BEGIN:VCALENDAR
PRODID:-//Public Meeting Notice/Utah Interactive LLC//iCal4j 1.0//EN
VERSION:2.0
BEGIN:VEVENT
DTSTAMP:20260426T034407Z
DTSTART:20230505T092600
DTEND:20230518T172600
SUMMARY:Petition for Guardianship of a Minor
LOCATION:206 W. Tabernacle St.\, \, St. George
UID:830797
END:VEVENT
END:VCALENDAR
