BEGIN:VCALENDAR
PRODID:-//Public Meeting Notice/Utah Interactive LLC//iCal4j 1.0//EN
VERSION:2.0
BEGIN:VEVENT
DTSTAMP:20260423T205409Z
DTSTART:20090813T190000
DTEND:20090813T220000
SUMMARY:Utah Valley University Board of Trustees
LOCATION:800 West University Parkway\, \, Orem
UID:19087
END:VEVENT
END:VCALENDAR
