BEGIN:VCALENDAR
PRODID:-//Public Meeting Notice/Utah Interactive LLC//iCal4j 1.0//EN
VERSION:2.0
BEGIN:VEVENT
DTSTAMP:20260425T232925Z
DTSTART:20260408T180000
SUMMARY:Public Forum Agenda
LOCATION:111 North 100 East\, \, Washington
UID:1069861
END:VEVENT
END:VCALENDAR
