BEGIN:VCALENDAR
PRODID:-//Public Meeting Notice/Utah Interactive LLC//iCal4j 1.0//EN
VERSION:2.0
BEGIN:VEVENT
DTSTAMP:20260420T002005Z
DTSTART:20260402T100000
DTEND:20260402T120000
SUMMARY:Special Board Meeting
LOCATION:2580 N. Hwy 162\, Suite A\, \, Eden
UID:1069705
END:VEVENT
END:VCALENDAR
