BEGIN:VCALENDAR
PRODID:-//Public Meeting Notice/Utah Interactive LLC//iCal4j 1.0//EN
VERSION:2.0
BEGIN:VEVENT
DTSTAMP:20260425T232817Z
DTSTART:20260402T190000
SUMMARY:Payson City LIbirary Board
LOCATION:439 W. Utah Avenue\, \, Payson
UID:1069703
END:VEVENT
END:VCALENDAR
