BEGIN:VCALENDAR
PRODID:-//Public Meeting Notice/Utah Interactive LLC//iCal4j 1.0//EN
VERSION:2.0
BEGIN:VEVENT
DTSTAMP:20260425T232910Z
DTSTART:20260428T093000
SUMMARY:Notice of Petition and Hearing\, and Proof of Posting -- Washingt
 on County Probate Notice 4/28/26 Hearing
LOCATION:206 W. Tabernacle\, \, ST GEORGE
UID:1069651
END:VEVENT
END:VCALENDAR
