BEGIN:VCALENDAR
PRODID:-//Public Meeting Notice/Utah Interactive LLC//iCal4j 1.0//EN
VERSION:2.0
BEGIN:VEVENT
DTSTAMP:20260425T232845Z
DTSTART:20260408T160000
SUMMARY:April 8\, 2026
LOCATION:3600 South Constitution Blvd\, \, West Valley City
UID:1069581
END:VEVENT
END:VCALENDAR
