BEGIN:VCALENDAR
PRODID:-//Public Meeting Notice/Utah Interactive LLC//iCal4j 1.0//EN
VERSION:2.0
BEGIN:VEVENT
DTSTAMP:20260421T055813Z
DTSTART:20260408T183100
SUMMARY:Planning Commission Agenda - Canceled
LOCATION:31 North Church Street\, \, American Fork
UID:1069503
END:VEVENT
END:VCALENDAR
