BEGIN:VCALENDAR
PRODID:-//Public Meeting Notice/Utah Interactive LLC//iCal4j 1.0//EN
VERSION:2.0
BEGIN:VEVENT
DTSTAMP:20260425T232840Z
DTSTART:20260331T183000
SUMMARY:Meeting Agenda
LOCATION:101 West Geneva Drive\, PO Box 70\, EAST CARBON
UID:1069479
END:VEVENT
END:VCALENDAR
