BEGIN:VCALENDAR
PRODID:-//Public Meeting Notice/Utah Interactive LLC//iCal4j 1.0//EN
VERSION:2.0
BEGIN:VEVENT
DTSTAMP:20260425T232920Z
DTSTART:20260415T180000
SUMMARY:Public Hearing
LOCATION:20 E Main\, P.O. Box 820\, Ferron
UID:1069469
END:VEVENT
END:VCALENDAR
