BEGIN:VCALENDAR
PRODID:-//Public Meeting Notice/Utah Interactive LLC//iCal4j 1.0//EN
VERSION:2.0
BEGIN:VEVENT
DTSTAMP:20260424T050645Z
DTSTART:20260407T090000
SUMMARY:2026.04.07 Shade Tree Commission Meeting and Agenda 
LOCATION:153 W 4800 S\, \, Murray
UID:1069437
END:VEVENT
END:VCALENDAR
