BEGIN:VCALENDAR
PRODID:-//Public Meeting Notice/Utah Interactive LLC//iCal4j 1.0//EN
VERSION:2.0
BEGIN:VEVENT
DTSTAMP:20260422T193933Z
DTSTART:20260407T190000
DTEND:20260407T200000
SUMMARY:Special Service District #1 Meeting
LOCATION:250 N Main St\, Commission Chambers\, Room 130\, Richfield
UID:1069341
END:VEVENT
END:VCALENDAR
