BEGIN:VCALENDAR
PRODID:-//Public Meeting Notice/Utah Interactive LLC//iCal4j 1.0//EN
VERSION:2.0
BEGIN:VEVENT
DTSTAMP:20260424T055241Z
DTSTART:20260407T190000
SUMMARY:April 7\, 2026 Notice of Public Hearings
LOCATION:3200 W 300 N\, \, West Point
UID:1069291
END:VEVENT
END:VCALENDAR
