BEGIN:VCALENDAR
PRODID:-//Public Meeting Notice/Utah Interactive LLC//iCal4j 1.0//EN
VERSION:2.0
BEGIN:VEVENT
DTSTAMP:20260425T115812Z
DTSTART:20260406T170000
SUMMARY:PLANNING AND ZONING AND TOWN COUNCIL JOINT WORK SESSION
LOCATION:165 E HWY 43\, \, Manila
UID:1069273
END:VEVENT
END:VCALENDAR
