BEGIN:VCALENDAR
PRODID:-//Public Meeting Notice/Utah Interactive LLC//iCal4j 1.0//EN
VERSION:2.0
BEGIN:VEVENT
DTSTAMP:20260423T031405Z
DTSTART:20260401T113000
DTEND:20260401T123000
SUMMARY:Fifth District Victims' Rights Committee Meeting
LOCATION:82 North 100 East\, Ste 210\, Cedar City
UID:1069253
END:VEVENT
END:VCALENDAR
