BEGIN:VCALENDAR
PRODID:-//Public Meeting Notice/Utah Interactive LLC//iCal4j 1.0//EN
VERSION:2.0
BEGIN:VEVENT
DTSTAMP:20260425T232950Z
DTSTART:20260408T180000
SUMMARY:04.08.2026 Planning Commission Public Hearing
LOCATION:212 N Toquer Blvd\, PO Box 27\, Toquerville
UID:1069241
END:VEVENT
END:VCALENDAR
