BEGIN:VCALENDAR
PRODID:-//Public Meeting Notice/Utah Interactive LLC//iCal4j 1.0//EN
VERSION:2.0
BEGIN:VEVENT
DTSTAMP:20260423T031410Z
DTSTART:20260331T183000
SUMMARY:River Heights City Council Meeting
LOCATION:520 S 500 E\, \, River Heights
UID:1069233
END:VEVENT
END:VCALENDAR
