BEGIN:VCALENDAR
PRODID:-//Public Meeting Notice/Utah Interactive LLC//iCal4j 1.0//EN
VERSION:2.0
BEGIN:VEVENT
DTSTAMP:20260424T120106Z
DTSTART:20260406T090000
DTEND:20260406T100000
SUMMARY:Notice of Public Hearing
LOCATION:2479 S Lake Park Boulevard\, \, West Valley City
UID:1069015
END:VEVENT
END:VCALENDAR
