Workbook
Name PRINTALL: #REF!
Name PRINTBALSHALL: #REF!
Name PRINTRESTRICTED: #REF!

Sheet Budget Summary
B1: Northfork Special Service District
B2: Budget Summary
F4: 2018 Adopted | H4: 2018 Amended | J4: 2019 Amended | N4: 2020 Adopted | P4: 2020 | R4: 2021 | T4: 2021 | V4: 2021 Adopted | X4: 2021 Amended | Z4: 2022 Adopted | AB4: 2022 | AD4: 2022 Amended | AF4: 2023 Adopted | AH4: 2023 Amended | AJ4: 2024 Adopted | AL4: 2024 Amended | AN4: 2025 Adopted | AP4: 2025 Amended | AR4: 2026 Adopted | AT4: 2026 Amended | AV4: 2027 Proposed
D5: 2017 Actual | F5: Budget | H5: Budget | J5: Budget | L5: 2019 Actual | N5: Budget | P5: Actual | R5: Estimate | T5: Actual | V5: Budget | X5: Budget | Z5: Budget | AB5: Estimate | AD5: Budget | AF5: Budget | AH5: Budget | AJ5: Budget | AL5: Budget | AN5: Budget | AP5: Budget | AR5: Budget | AT5: Budget | AV5: Budget
A7: Groupin Code | B7: Operating Revenues:
A8: 30 | B8: Charges for services | D8: 1277132 | F8: 1617868 | H8: -11400 | J8: 62917 | L8: 1733125 | N8: 45600 | P8: 4347358 | R8: 4820274 | T8: 2661964 | V8: 2318848 | X8: 2562717.5 | Z8: 2342823.2 | AB8: 5355860 | AD8: 2730600 | AF8: 2855000 | AH8: 2973022.7 | AJ8: 3484700 | AL8: 3794980 | AN8: 3094980 | AP8: 3494980 | AR8: 3484700 | AT8: 4792700 | AV8: 4341802.3
A9: 40 | B9: Miscellaneous revenue | J9: 0 | L9: 0 | N9: 0 | P9: 775 | R9: 0 | T9: 1431 | V9: 0 | X9: 1400 | Z9: 1000 | AB9: 0 | AD9: 1000 | AF9: 2000 | AH9: 2510.25 | AJ9: 1300 | AL9: 1300 | AN9: 1300 | AP9: 1300 | AR9: 1300 | AT9: 1300 | AV9: 1300
D10: 1277132 | F10: 1617868 | H10: -11400 | J10: 62917 | L10: 1733125 | N10: 45600 | P10: 4348133 | R10: 4820274 | T10: 2663395 | V10: 2318848 | X10: 2564117.5 | Z10: 2343823.2 | AB10: 5355860 | AD10: 2731600 | AF10: 2857000 | AH10: 2975533 | AJ10: 3486000 | AL10: 3796280 | AN10: 3096280 | AP10: 4794000 | AR10: 3486000 | AT10: 4794000 | AV10: 4343102.3
B12: Operating Expenses:
A13: 100 | B13: Salaries and Benefits | D13: 538876 | F13: 703532 | H13: 247460 | J13: 62460 | L13: 794102 | N13: 17180.67 | P13: 2451155 | R13: 2715723.6 | T13: 1107697 | V13: 1200143.6 | X13: 1279237.1 | Z13: 1364359.7 | AB13: 3017470.7 | AD13: 1366380.8 | AF13: 1802542 | AH13: 1965129.8 | AJ13: 2863446.5 | AL13: 2453643 | AN13: 2277235.4 | AP13: 2342334.4 | AR13: 2863446.5 | AT13: 3122407.5 | AV13: 3119493.8
A14: 200 | B14: General and Administrative | D14: 278958 | F14: 526999 | H14: 47273 | J14: 31994 | L14: 385622 | N14: -103976 | P14: 960311 | R14: 782660.4 | T14: 472530 | V14: 559776.67 | X14: 648275.84 | Z14: 551614.11 | AB14: 869622.67 | AD14: 776411.44 | AF14: 591272.11 | AH14: 662560.03 | AJ14: 1044960.9 | AL14: 847867 | AN14: 793644.88 | AP14: 1125414.9 | AR14: 1044960.9 | AT14: 1188011.5 | AV14: 1170860.5
A15: 500 | B15: Repairs and Maintenance | D15: 119175 | F15: 0 | H15: 298100 | J15: 682646 | L15: 72629 | N15: 763727 | P15: 248740 | R15: 208657.2 | T15: 150498 | V15: 142150 | X15: 196900 | Z15: 143150 | AB15: 231841.33 | AD15: 164950 | AF15: 148950 | AH15: 147624.77 | AJ15: 254200 | AL15: 249200 | AN15: 235500 | AP15: 285200 | AR15: 254200 | AT15: 285770 | AV15: 264350
A16: 700 | B16: Depreciation and Amortization | D16: 244207 | F16: 247094 | H16: 1300 | J16: 34600 | L16: 339893 | N16: 3000 | P16: 450618 | R16: 225309.6 | T16: 367933 | V16: 339500 | X16: 354690 | Z16: 355000 | AB16: 250344 | AD16: 365000 | AF16: 365000 | AH16: 337000 | AJ16: 310882 | AL16: 330882 | AN16: 310882 | AP16: 330882 | AR16: 310882 | AT16: 310882 | AV16: 310882
A17: 600 | B17: Bad Debt | D17: 58095 | F17: 0 | H17: -10400 | J17: -60000 | L17: 171 | N17: -60000 | P17: 0 | R17: 0 | T17: 0 | V17: 0 | X17: 0 | Z17: 0 | AB17: 0 | AH17: 0 | AJ17: 0 | AL17: 0 | AN17: 0 | AP17: 0 | AR17: 0 | AT17: 0 | AV17: 0
B18: Total operating expenses | D18: 1239311 | F18: 1477625 | H18: 583733 | J18: 751700 | L18: 1592417 | N18: 619931.67 | P18: 4110824 | R18: 3932350.8 | T18: 2098658 | V18: 2241570.3 | X18: 2479102.9 | Z18: 2414123.8 | AB18: 4369278.7 | AD18: 2672742.2 | AF18: 2907764.1 | AH18: 3112314.6 | AJ18: 4473489.4 | AL18: 3881592 | AN18: 3617262.2 | AP18: 4907071 | AR18: 4473489.4 | AT18: 4907071 | AV18: 4865586.2
B19: Operating income | D19: 37821 | F19: 140243 | H19: -595133 | J19: -688783 | L19: 140708 | N19: -574331.67 | P19: 237309 | R19: 887923.2 | T19: 564737 | V19: 77277.71 | X19: 85014.603 | Z19: -70300.62 | AB19: 986581.33 | AD19: 58857.78 | AF19: -50764.125 | AH19: -136781.62 | AJ19: -987489.38 | AL19: -85312.04 | AN19: -520982.24 | AP19: -113070.98 | AR19: -987489.38 | AT19: -113070.98 | AV19: -522483.93
B21: Nonoperating Revenues (Expenses)
A22: 950 | B22: Property Taxes | D22: 160986 | F22: 145000 | H22: -65 | J22: -50 | L22: 168294 | N22: -50 | P22: 205354 | R22: 166404 | T22: 179064 | V22: 160000 | X22: 160000 | Z22: 160000 | AB22: 180000 | AD22: 160000 | AF22: 165000 | AH22: 165000 | AJ22: 165000 | AL22: 165000 | AN22: 165000 | AP22: 165000 | AR22: 165000 | AT22: 165000 | AV22: 165000
A23: 60 | B23: Donations | D23: 62080 | F23: 15000 | H23: -2400 | J23: -9000 | L23: 66305 | N23: -9000 | P23: 436435 | R23: 175648.8 | T23: 18200 | V23: 15000 | X23: 15000 | Z23: 15000 | AB23: 195165.33 | AD23: 15000 | AF23: 20000 | AH23: 18013.9 | AJ23: 15000 | AL23: 15000 | AN23: 15000 | AP23: 15000 | AR23: 15000 | AT23: 15000 | AV23: 15000
A24: 960 | B24: Interest income | D24: 45267 | F24: 8500 | H24: 375400 | J24: 522000 | L24: 108661 | N24: 500000 | P24: 10009291 | R24: 46628.4 | T24: 131030 | V24: 25200 | X24: 25200 | Z24: 25200 | AB24: 51809.333 | AD24: 66000 | AF24: 79000 | AH24: 181209.84 | AJ24: 189000 | AL24: 379000 | AN24: 379000 | AP24: 379000 | AR24: 189000 | AT24: 203000 | AV24: 202000
A25: 70 | B25: Grant revenue | D25: 0 | F25: 0 | H25: 0 | J25: -2000 | L25: 27282 | N25: -2000 | P25: 19533 | R25: 15018 | T25: -7496 | V25: 94000 | X25: 118900 | Z25: 100000 | AB25: 3100000 | AD25: 100000 | AF25: 165000 | AH25: 10846000 | AJ25: 3850000 | AL25: 9040000 | AN25: 12040000 | AP25: 12040000 | AR25: 3850000 | AT25: 2729841.6 | AV25: 1515250
B26: Gain (loss) on the disposal of capital assets | L26: -940 | P26: 0 | R26: -2784627.6 | T26: -11032 | Z26: 0 | AD26: 0 | AF26: 0 | AH26: 0 | AJ26: 0 | AL26: 0 | AN26: 0 | AP26: 0 | AR26: 0 | AT26: 0 | AV26: 0
A27: 710 | B27: capital outlay | J27: 0 | L27: 0 | N27: 0 | P27: -39296 | R27: 0 | T27: 0 | V27: 0 | X27: 0 | Z27: 0 | AB27: -6841000 | AD27: -1611000 | AF27: 0 | AH27: 0 | AJ27: 0 | AL27: 0 | AN27: 0 | AP27: 0 | AR27: 0 | AT27: 0 | AV27: 0
A28: 620 | B28: Interest Expense | D28: -137305 | F28: -458875 | J28: -17450 | L28: -126266 | N28: -133574 | P28: -41359 | R28: -103910 | T28: -90634 | V28: -103910 | X28: -77910 | Z28: -101125.38 | AB28: 85000 | AD28: -95110 | AF28: -86589 | AH28: -86589 | AJ28: -164178 | AL28: -164178 | AN28: -164178 | AP28: -164178 | AR28: -164178 | AT28: -164178 | AV28: -164178
B29: Total nonoperating revenue (expense) | D29: 131028 | F29: -290375 | H29: 372935 | J29: 493500 | L29: 243336 | N29: 355376 | P29: 10589958 | R29: -2484838.4 | T29: 219132 | V29: 190290 | X29: 241190 | Z29: 199074.62 | AB29: -3229025.3 | AD29: -1365110 | AF29: 342411 | AH29: 11123635 | AJ29: 4054822 | AL29: 9434822 | AN29: 12434822 | AP29: 2948663.6 | AR29: 4054822 | AT29: 2948663.6 | AV29: 1733072
B30: Additions (reductions) in net position | D30: 168849 | F30: -150132 | H30: -222198 | J30: -195283 | L30: 384044 | N30: -218955.67 | P30: 10827267 | R30: -1596915.2 | T30: 783869 | V30: 267567.71 | X30: 326204.6 | Z30: 128774 | AB30: -2242444 | AD30: -1306252.2 | AF30: 291646.87 | AH30: 10986853 | AJ30: 3067332.6 | AL30: 9349510 | AN30: 11913840 | AP30: 2835592.6 | AR30: 3067332.6 | AT30: 2835592.6 | AV30: 1210588.1
B32: Debt Service and Capital Outlay
B33: Debt Service (principal payments) | D33: 380755 | F33: 0 | H33: 253118 | J33: 223974.71 | L33: -418975 | N33: 418497.76 | P33: 418975 | R33: 435628 | T33: 435628 | V33: 421691.93 | X33: 435628.32 | Z33: 410870.97 | AB33: 435628 | AD33: 410871 | AF33: 401116 | AH33: -401116.1 | AJ33: 0 | AL33: 0 | AN33: 421312 | AP33: 0 | AR33: -366133.21 | AT33: -366133.21 | AV33: -162531.4
A34: 710 | B34: Capital outlay | D34: 1702811 | F34: 5000 | H34: 18200 | J34: 1250000 | L34: -587232 | N34: 0 | P34: 833496 | R34: 0 | T34: 0 | V34: 0 | X34: 0 | Z34: 0 | AB34: 0 | AD34: 234000 | AF34: 4281000 | AH34: -10398000 | AJ34: -5255000 | AL34: -9706000 | AN34: -29381000 | AP34: -10415500 | AR34: -5255000 | AT34: -6025000 | AV34: -3249000
B35: Total debt service and capital outlay | D35: 2083566 | F35: 5000 | H35: 271318 | J35: 1473974.7 | L35: -1006207 | N35: 418497.76 | P35: 1252471 | R35: 435628 | T35: 435628 | V35: 421691.93 | X35: 435628.32 | Z35: 410870.97 | AB35: 435628 | AD35: 644871 | AF35: 4682116 | AH35: -10799116 | AJ35: -5255000 | AL35: -9706000 | AN35: -28959688 | AP35: -6391133.2 | AR35: -5621133.2 | AT35: -6391133.2 | AV35: -3411531.4
B37: Total net change | D37: -1914717 | F37: -155132 | H37: -493516 | J37: -1669257.7 | L37: -622163 | N37: -637453.43 | P37: 9574796 | R37: -2032543.2 | T37: 348241 | V37: -154124.22 | X37: -109423.72 | Z37: -282096.97 | AB37: -2678072 | AD37: -1951123.2 | AF37: -4390469.1 | AH37: 187737.02 | AJ37: -2187667.4 | AL37: -356490.04 | AN37: -17045848 | AP37: -3555540.6 | AR37: -2553800.6 | AT37: -3555540.6 | AV37: -2200943.3
B38: Bonds or other financing | AJ38: 0 | AL38: 0 | AN38: 14000000 | AP38: 3000000 | AR38: 0 | AT38: 0 | AV38: 0
B39: Amount transferred (To)/From reserves | D39: 1914717 | F39: 155132 | H39: 493516 | J39: 1669257.7 | L39: 622163 | N39: 637453.43 | P39: -9574796 | R39: 2032543.2 | T39: -348241 | V39: 154124.22 | X39: 109423.72 | Z39: 282096.97 | AB39: 2678072 | AD39: 1951123.2 | AF39: 4390469.1 | AH39: -187737.02 | AJ39: 2187667.4 | AL39: 356490.04 | AN39: 3045848.2 | AP39: 3555540.6 | AR39: 2553800.6 | AT39: 3555540.6 | AV39: 2200943.3
B40: Budget Balance | D40: 0 | F40: 0 | H40: 0 | J40: 0 | L40: 0 | N40: 0 | P40: 0 | R40: 0 | T40: 0 | V40: 0 | X40: 0 | Z40: 0 | AB40: 0 | AD40: 0 | AF40: 0 | AH40: 0 | AJ40: 0 | AL40: 0 | AN40: 0 | AP40: 0 | AR40: 0 | AT40: 0 | AV40: 0

Sheet 27 Proposed Budget by Dept
B1: Northfork Special Service District
B2: 2027 Proposed Budget by Department
F4: 2018 Adopted | H4: 2018 Amended | J4: 20 | L4: 22 | N4: 51 | P4: 52 | R4: 53
D5: 2017 Actual | F5: Budget | H5: Budget | J5: Fire/EMS | L5: Wildland | N5: Water | P5: Sewer | R5: Garbage | T5: Total
B7: Operating Revenues:
A8: 30 | B8: Charges for services | D8: 1277132 | F8: 1617868 | H8: -11400 | J8: 1189078.3 | L8: 1686024 | N8: 752720 | P8: 685480 | R8: 28500 | T8: 4341802.3
A9: 40 | B9: Miscellaneous revenue | J9: 1300 | L9: 0 | N9: 0 | P9: 0 | R9: 0 | T9: 1300
D10: 1277132 | F10: 1617868 | H10: -11400 | J10: 1190378.3 | L10: 1686024 | N10: 752720 | P10: 685480 | R10: 28500 | T10: 4343102.3
B12: Operating Expenses:
A13: 100 | B13: Salaries and Benefits | D13: 538876 | F13: 703532 | H13: 247460 | J13: 1115849.5 | L13: 1239165.6 | N13: 376088.8 | P13: 376050.4 | R13: 12339.491 | T13: 3119493.8
A14: 200 | B14: General and Administrative | D14: 278958 | F14: 526999 | H14: 47273 | J14: 287720.49 | L14: 214000 | N14: 328300 | P14: 322600 | R14: 18240 | T14: 1170860.5
A15: 500 | B15: Repairs and Maintenance | D15: 119175 | F15: 0 | H15: 298100 | J15: 49000 | L15: 52000 | N15: 116000 | P15: 43350 | R15: 4000 | T15: 264350
A16: 700 | B16: Depreciation | D16: 58095 | F16: 0 | H16: 1300 | J16: 110000 | L16: 0 | N16: 87202 | P16: 111558 | R16: 2122 | T16: 310882
A17: 600 | B17: Bad Debt | J17: 0 | L17: 0 | N17: 0 | P17: 0 | R17: 0 | T17: 0
B18: Total operating expenses | D18: 995104 | F18: 1230531 | H18: 594133 | J18: 1562570 | L18: 1505165.6 | N18: 907590.8 | P18: 853558.4 | R18: 36701.491 | T18: 4865586.2
B19: Operating income | D19: 282028 | F19: 387337 | H19: -605533 | J19: -372191.65 | L19: 180858.42 | N19: -154870.8 | P19: -168078.4 | R19: -8201.4908 | T19: -522483.93
B21: Nonoperating Revenues (Expenses)
A22: 950 | B22: Property Taxes | D22: 160986 | F22: 145000 | H22: -65 | J22: 85000 | L22: 0 | N22: 80000 | P22: 0 | R22: 0 | T22: 165000
A23: 60 | B23: Donations | D23: 62080 | F23: 15000 | H23: -2400 | J23: 15000 | L23: 0 | N23: 0 | P23: 0 | R23: 0 | T23: 15000
A24: 960 | B24: Interest income | D24: 45267 | F24: 8500 | H24: 375400 | J24: 40000 | L24: 12000 | N24: 100000 | P24: 50000 | R24: 0 | T24: 202000
A25: 70 | B25: Grant revenue | D25: 0 | F25: 0 | H25: 0 | J25: 55250 | L25: 60000 | N25: 1400000 | P25: 0 | R25: 0 | T25: 1515250
A26: 620 | B26: Interest Expense | D26: -137305 | F26: -458875 | H26: -21496 | J26: -9000 | L26: 0 | N26: -91558 | P26: -63620 | R26: 0 | T26: -164178
B27: Total nonoperating revenue (expense) | D27: 131028 | F27: -290375 | H27: 351439 | J27: 186250 | L27: 72000 | N27: 1488442 | P27: -13620 | R27: 0 | T27: 1733072
B28: Additions (reductions) in net position | D28: 413056 | F28: 96962 | H28: -254094 | J28: -185941.65 | L28: 252858.42 | N28: 1333571.2 | P28: -181698.4 | R28: -8201.4908 | T28: 1210588.1
B30: Debt Service and Capital Outlay
A31: 970 | B31: Debt Service (principal payments) | D31: 380755 | F31: 0 | H31: 63118 | J31: -21531.4 | L31: 0 | N31: -141000 | P31: 0 | R31: 0 | T31: -162531.4
A32: 710 | B32: Capital outlay | D32: 1702811 | F32: 5000 | H32: 18200 | J32: -619000 | L32: 0 | N32: -1590000 | P32: -1040000 | R32: 0 | T32: -3249000
B33: Total debt service and capital outlay | D33: 2083566 | F33: 5000 | H33: 81318 | J33: -640531.4 | L33: 0 | N33: -1731000 | P33: -1040000 | R33: 0 | T33: -3411531.4
B35: Net increase (decrease) | J35: -826473.05 | L35: 252858.42 | N35: -397428.8 | P35: -1221698.4 | R35: -8201.4908 | T35: -2200943.3

Sheet Budget State 27 Proposed
B1: Northfork Special Service District
B2: 2027 Proposed Budget
D4: 2025 | F4: 2026 | H4: 2027 Amended
D5: Actual | F5: Estimate | H5: Budget
A7: Grouping Code | B7: Operating Revenues:
A8: 30 | B8: Charges for services | D8: 4347358 | F8: 5355860 | H8: 4341802.3
A9: 40 | B9: Miscellaneous revenue | D9: 775 | F9: 0 | H9: 1300
D10: 4348133 | F10: 5355860 | H10: 4343102.3
B12: Operating Expenses:
A13: 100 | B13: Salaries and Benefits | D13: 2451155 | F13: 3017470.7 | H13: 3119493.8
A14: 200 | B14: General and Administrative | D14: 960311 | F14: 869622.67 | H14: 1170860.5
A15: 500 | B15: Repairs and Maintenance | D15: 248740 | F15: 231841.33 | H15: 264350
A16: 700 | B16: Depreciation and Amortization | D16: 450618 | F16: 250344 | H16: 310882
A17: 600 | B17: Bad Debt | D17: 0 | F17: 0 | H17: 0
B18: Total operating expenses | D18: 4110824 | F18: 4369278.7 | H18: 4865586.2
B19: Operating income | D19: 237309 | F19: 986581.33 | H19: -522483.93
B21: Nonoperating Revenues (Expenses)
A22: 950 | B22: Property Taxes | D22: 205354 | F22: 180000 | H22: 165000
A23: 60 | B23: Donations | D23: 19533 | F23: 16686.667 | H23: 15000
A24: 960 | B24: Interest income | D24: 436435 | F24: 195165.33 | H24: 202000
A25: 70 | B25: Grant revenue | D25: 10009291 | F25: 51809.333 | H25: 1515250
B26: Gain (loss) on the disposal of capital assets | D26: -39296 | F26: 0 | H26: 0
A27: 710 | B27: capital outlay | D27: 0 | F27: 0 | H27: 0
A28: 620 | B28: Interest Expense | D28: -41359 | F28: -96061 | H28: -164178
B29: Total nonoperating revenue (expense) | D29: 10589958 | F29: 347600.33 | H29: 1733072
B30: Additions (reductions) in net position | D30: 10827267 | F30: 1334181.7 | H30: 1210588.1
B32: Debt Service and Capital Outlay
B33: Debt Service (principal payments) | D33: -416209 | F33: -366133.21 | H33: -162531.4
B34: Capital outlay | D34: 0 | F34: -3094030.7 | H34: -3249000
B35: Total debt service and capital outlay | D35: -416209 | F35: -3460163.9 | H35: -3411531.4
B37: Total net change | D37: 10411058 | F37: -2125982.2 | H37: -2200943.3
B38: Amount transferred (To)/From reserves | D38: -10411058 | F38: 2125982.2 | H38: 2200943.3
B39: Budget Balance | D39: 0 | F39: 0 | H39: 0

Sheet 26 Amended Budget by Dept
B1: Northfork Special Service District
B2: 2026 Amended Budget by Department
F4: 2018 Adopted | H4: 2018 Amended | J4: 20 | L4: 22 | N4: 51 | P4: 52 | R4: 53
D5: 2017 Actual | F5: Budget | H5: Budget | J5: Fire/EMS | L5: Wildland | N5: Water | P5: Sewer | R5: Garbage | T5: Total
B7: Operating Revenues:
A8: 30 | B8: Charges for services | D8: 1277132 | F8: 1617868 | H8: -11400 | J8: 1126000 | L8: 2200000 | N8: 752720 | P8: 685480 | R8: 28500 | T8: 4792700
A9: 40 | B9: Miscellaneous revenue | J9: 1300 | L9: 0 | N9: 0 | P9: 0 | R9: 0 | T9: 1300
D10: 1277132 | F10: 1617868 | H10: -11400 | J10: 1127300 | L10: 2200000 | N10: 752720 | P10: 685480 | R10: 28500 | T10: 4794000
B12: Operating Expenses:
A13: 100 | B13: Salaries and Benefits | D13: 538876 | F13: 703532 | H13: 247460 | J13: 1341654.3 | L13: 1017018 | N13: 376046.52 | P13: 376008.12 | R13: 11680.549 | T13: 3122407.5
A14: 200 | B14: General and Administrative | D14: 278958 | F14: 526999 | H14: 47273 | J14: 319871.51 | L14: 212000 | N14: 315300 | P14: 322600 | R14: 18240 | T14: 1188011.5
A15: 500 | B15: Repairs and Maintenance | D15: 119175 | F15: 0 | H15: 298100 | J15: 51070 | L15: 57000 | N15: 120350 | P15: 53350 | R15: 4000 | T15: 285770
A16: 700 | B16: Depreciation | D16: 58095 | F16: 0 | H16: 1300 | J16: 110000 | L16: 0 | N16: 87202 | P16: 111558 | R16: 2122 | T16: 310882
A17: 600 | B17: Bad Debt | J17: 0 | L17: 0 | N17: 0 | P17: 0 | R17: 0 | T17: 0
B18: Total operating expenses | D18: 995104 | F18: 1230531 | H18: 594133 | J18: 1822595.8 | L18: 1286018 | N18: 898898.52 | P18: 863516.12 | R18: 36042.549 | T18: 4907071
B19: Operating income | D19: 282028 | F19: 387337 | H19: -605533 | J19: -695295.8 | L19: 913982 | N19: -146178.52 | P19: -178036.12 | R19: -7542.5493 | T19: -113070.98
B21: Nonoperating Revenues (Expenses)
A22: 950 | B22: Property Taxes | D22: 160986 | F22: 145000 | H22: -65 | J22: 85000 | L22: 0 | N22: 80000 | P22: 0 | R22: 0 | T22: 165000
A23: 60 | B23: Donations | D23: 62080 | F23: 15000 | H23: -2400 | J23: 15000 | L23: 0 | N23: 0 | P23: 0 | R23: 0 | T23: 15000
A24: 960 | B24: Interest income | D24: 45267 | F24: 8500 | H24: 375400 | J24: 39000 | L24: 14000 | N24: 100000 | P24: 50000 | R24: 0 | T24: 203000
A25: 70 | B25: Grant revenue | D25: 0 | F25: 0 | H25: 0 | J25: 100000 | L25: 10000 | N25: 0 | P25: 2619841.6 | R25: 0 | T25: 2729841.6
A26: 620 | B26: Interest Expense | D26: -137305 | F26: -458875 | H26: -21496 | J26: -9000 | L26: 0 | N26: -91558 | P26: -63620 | R26: 0 | T26: -164178
B27: Total nonoperating revenue (expense) | D27: 131028 | F27: -290375 | H27: 351439 | J27: 230000 | L27: 24000 | N27: 88442 | P27: 2606221.6 | R27: 0 | T27: 2948663.6
B28: Additions (reductions) in net position | D28: 413056 | F28: 96962 | H28: -254094 | J28: -465295.8 | L28: 937982 | N28: -57736.517 | P28: 2428185.5 | R28: -7542.5493 | T28: 2835592.6
B30: Debt Service and Capital Outlay
A31: 970 | B31: Debt Service (principal payments) | D31: 380755 | F31: 0 | H31: 63118 | J31: -57808 | L31: 0 | N31: -138000 | P31: -170325.21 | R31: 0 | T31: -366133.21
A32: 710 | B32: Capital outlay | D32: 1702811 | F32: 5000 | H32: 18200 | J32: 0 | L32: -515000 | N32: -930000 | P32: -4580000 | R32: 0 | T32: -6025000
B33: Total debt service and capital outlay | D33: 2083566 | F33: 5000 | H33: 81318 | J33: -57808 | L33: -515000 | N33: -1068000 | P33: -4750325.2 | R33: 0 | T33: -6391133.2
B35: Net increase (decrease) | J35: -523103.8 | L35: 422982 | N35: -1125736.5 | P35: -2322139.7 | R35: -7542.5493 | T35: -3555540.6

Sheet Budget State 26 Amended
B1: Northfork Special Service District
B2: 2026 Amended Budget
D4: 2025 | F4: 2026 | H4: 2026 Amended
D5: Actual | F5: Estimate | H5: Budget
A7: Grouping Code | B7: Operating Revenues:
A8: 30 | B8: Charges for services | D8: 4347358 | F8: 5355860 | H8: 4792700
A9: 40 | B9: Miscellaneous revenue | D9: 775 | F9: 0 | H9: 1300
D10: 4348133 | F10: 5355860 | H10: 4794000
B12: Operating Expenses:
A13: 100 | B13: Salaries and Benefits | D13: 2451155 | F13: 3017470.7 | H13: 3122407.5
A14: 200 | B14: General and Administrative | D14: 960311 | F14: 869622.67 | H14: 1188011.5
A15: 500 | B15: Repairs and Maintenance | D15: 248740 | F15: 231841.33 | H15: 285770
A16: 700 | B16: Depreciation and Amortization | D16: 450618 | F16: 250344 | H16: 310882
A17: 600 | B17: Bad Debt | D17: 0 | F17: 0 | H17: 0
B18: Total operating expenses | D18: 4110824 | F18: 4369278.7 | H18: 4907071
B19: Operating income | D19: 237309 | F19: 986581.33 | H19: -113070.98
B21: Nonoperating Revenues (Expenses)
A22: 950 | B22: Property Taxes | D22: 205354 | F22: 180000 | H22: 165000
A23: 60 | B23: Donations | D23: 19533 | F23: 16686.667 | H23: 15000
A24: 960 | B24: Interest income | D24: 436435 | F24: 195165.33 | H24: 203000
A25: 70 | B25: Grant revenue | D25: 10009291 | F25: 51809.333 | H25: 2729841.6
B26: Gain (loss) on the disposal of capital assets | D26: -39296 | F26: 0 | H26: 0
A27: 710 | B27: capital outlay | D27: 0 | F27: 0 | H27: 0
A28: 620 | B28: Interest Expense | D28: -41359 | F28: -96061 | H28: -164178
B29: Total nonoperating revenue (expense) | D29: 10589958 | F29: 347600.33 | H29: 2948663.6
B30: Additions (reductions) in net position | D30: 10827267 | F30: 1334181.7 | H30: 2835592.6
B32: Debt Service and Capital Outlay
B33: Debt Service (principal payments) | D33: -416209 | F33: -366133.21 | H33: -366133.21
B34: Capital outlay | D34: 0 | F34: -3094030.7 | H34: -6025000
B35: Total debt service and capital outlay | D35: -416209 | F35: -3460163.9 | H35: -6391133.2
B37: Total net change | D37: 10411058 | F37: -2125982.2 | H37: -3555540.6
B38: Amount transferred (To)/From reserves | D38: -10411058 | F38: 2125982.2 | H38: 3555540.6
B39: Budget Balance | D39: 0 | F39: 0 | H39: 0

Sheet COA
A1: Account | B1: Description | C1: Fund | D1: Type | G1: Type | H1: Fund | I1: Grouping Code | J1: Grouping Code Name | K1: New Account Number | L1: Account Name
A2: 20-10000 | B2: Cash Combined Fund | C2: 20 | D2: A | G2: A | H2: 20 | I2: 10000 | J2: Cash and Cash Equivalents | K2: 20-10000 | L2: Cash Combined Fund
A3: 20-10400 | B3: Petty Cash | C3: 20 | D3: A | G3: A | H3: 20 | I3: 10000 | J3: Cash and Cash Equivalents | K3: 20-10400 | L3: Petty Cash
A4: 20-10500 | B4: Restricted Cash Clearing | C4: 20 | D4: A | G4: A | H4: 20 | I4: 16200 | J4: Noncurrent restricted cash and investments | K4: 20-10500 | L4: Restricted Cash
A5: 20-10610 | B5: 0348 PTIF Fire Reserve | C5: 20 | D5: A | G5: A | H5: 20 | I5: 10000 | J5: Cash and Cash Equivalents | K5: 20-10610 | L5: 0348 PTIF Fire Reserve
A6: 20-10611 | B6: 8554 PTIF Hazmat Reserve | C6: 20 | D6: A | G6: A | H6: 20 | I6: 16200 | J6: Noncurrent restricted cash and investments | K6: 20-10611 | L6: 8554 PTIF Hazmat Reserve
A7: 20-10612 | B7: 0348 PTIF Fire Reserve DUE2WL | C7: 20 | D7: A | G7: A | H7: 20 | I7: 10000 | J7: Cash and Cash Equivalents | K7: 20-10612 | L7: 0348 PTIF Fire Reserve DUE2WL
A8: 20-11500 | B8: Accounts Receivable | C8: 20 | D8: A | G8: A | H8: 20 | I8: 11500 | J8: Accounts Receivable | K8: 20-11500 | L8: Accounts Receivable
A9: 20-11520 | B9: Property Tax Receivable | C9: 20 | D9: A | G9: A | H9: 20 | I9: 11510 | J9: Property Tax Receivable | K9: 20-11520 | L9: Property Tax Receivable
A10: 20-11570 | B10: Allow for Doubtful Accts | C10: 20 | D10: A | G10: A | H10: 20 | I10: 11500 | J10: Accounts Receivable | K10: 20-11570 | L10: Allow for Doubtful Accts
A11: 20-14300 | B11: Prepaid Expenses | C11: 20 | D11: A | G11: A | H11: 20 | I11: 14300 | J11: Prepaid Expenses | K11: 20-14300 | L11: Prepaid Expenses
A12: 20-16000 | B12: Administrative Equipment | C12: 20 | D12: A | G12: A | H12: 20 | I12: 16320 | J12: Equipment | K12: 20-16000 | L12: Administrative Equipment
A13: 20-16005 | B13: Land | C13: 20 | D13: A | G13: A | H13: 20 | I13: 16350 | J13: Land | K13: 20-16005 | L13: Land
... A40: 20-28510 | B40: Zions Bank - Station 2 Note | C40: 20 | D40: L | G40: L | H40: 20 | I40: 22250 | J40: Compensated Absences Noncurrent | K40: 20-25125 | L40: Compensated Absences Noncurrent
A41: 20-28511 | B41: Note Current Portion | C41: 20 | D41: L | G41: L | H41: 20 | I41: 0 | J41: #N/A | K41: 20-25150 | L41: Accrued Sick Pay
A42: 20-28520 | B42: Oshkosh Capital - Fire Tender | C42: 20 | D42: L | G42: L | H42: 20 | I42: 28000 | J42: Accrued Interest Payable | K42: 20-28000 | L42: Accrued Interest Payable
A43: 20-28521 | B43: Lease Current Portion | C43: 20 | D43: L | G43: L | H43: 20 | I43: 28510 | J43: Notes Payable - Noncurrent | K43: 20-28510 | L43: Zions Bank - Station 2 Note
A44: 20-28550 | B44: Hinklease Truck Lease | C44: 20 | D44: L | G44: L | H44: 20 | I44: 28505 | J44: Notes Payable - Current | K44: 20-28511 | L44: Note Current Portion
A45: 20-28551 | B45: Lease Current Portion | C45: 20 | D45: L | G45: L | H45: 20 | I45: 28520 | J45: Capital Leases Payable - Noncurrent | K45: 20-28520 | L45: Oshkosh Capital - Fire Tender
A46: 20-28560 | B46: Station Expansion Bond | C46: 20 | D46: L | G46: L | H46: 20 | I46: 28521 | J46: Capital Leases Payable - Current | K46: 20-28521 | L46: Lease Current Portion
A47: 20-28561 | B47: Station Bond Current Portion | C47: 20 | D47: L | G47: L | H47: 20 | I47: 28505 | J47: Notes Payable - Current | K47: 20-28551 | L47: Ambulance Lease Current Portion
A48: 20-28570 | B48: Ambulance Lease | C48: 20 | D48: L | G48: L | H48: 20 | I48: 28540 | J48: Bonds Payable - Noncurrent | K48: 20-28560 | L48: Station Expansion Bond Payable
A49: 20-29100 | B49: Fund Balance | C49: 20 | D49: F | G49: L | H49: 20 | I49: 28541 | J49: Bonds Payable - Current | K49: 20-28561 | L49: Station Bond Current Portion
A50: 20-30-200 | B50: Fire Response | C50: 20 | D50: R | G50: L | H50: 20 | I50: 28510 | J50: Notes Payable - Noncurrent | K50: 20-28570 | L50: Ambulance Lease
A51: 20-30-400 | B51: Fire Fees | C51: 20 | D51: R | G51: C | H51: 20 | I51: 29100 | J51: Unrestricted | K51: 20-29100 | L51: Fund Balance
A52: 20-30-410 | B52: Fire/EMS Grants | C52: 20 | D52: R | G52: R | H52: 20 | I52: 30 | J52: Charges for services | K52: 20-30-200 | L52: Fire Response
A53: 20-30-425 | B53: Ambulance Income | C53: 20 | D53: R | G53: R | H53: 20 | I53: 30 | J53: Charges for services | K53: 20-30-400 | L53: Fire Fees
... A61: 20-45-600 | B61: Salaries & Wages | C61: 20 | D61: E | G61: R | H61: 20 | I61: 30 | J61: Charges for services | K61: 20-30-520 | L61: Contract Fees - Utah County
A62: 20-45-601 | B62: Payroll Taxes | C62: 20 | D62: E | G62: R | H62: 20 | J62: #N/A | K62: 20-30-525 | L62: Transfer from Capital Reserves
A63: 20-45-602 | B63: Retirement | C63: 20 | D63: E | G63: E | H63: 20 | I63: 100 | J63: Salaries and Benefits | K63: 20-45-600 | L63: Salaries & Wages
A64: 20-45-603 | B64: Medical, LTD, Life, AD&D | C64: 20 | D64: E | G64: E | H64: 20 | I64: 100 | J64: Salaries and Benefits | K64: 20-45-601 | L64: Payroll Taxes
A65: 20-45-604 | B65: Worker's Compensation | C65: 20 | D65: E | G65: E | H65: 20 | I65: 100 | J65: Salaries and Benefits | K65: 20-45-602 | L65: Retirement
A66: 20-45-607 | B66: Vacation/Sick/Holiday | C66: 20 | D66: E | G66: E | H66: 20 | I66: 100 | J66: Salaries and Benefits | K66: 20-45-603 | L66: Medical, LTD, Life, AD&D
A67: 20-45-608 | B67: Flex Plan | C67: 20 | D67: E | G67: E | H67: 20 | I67: 100 | J67: Salaries and Benefits | K67: 20-45-604 | L67: Worker's Compensation
A68: 20-45-609 | B68: Employee/Vol Incentives | C68: 20 | D68: E | G68: E | H68: 20 | I68: 100 | J68: Salaries and Benefits | K68: 20-45-607 | L68: Vacation/Sick/Holiday
A69: 20-45-610 | B69: Other Benefits | C69: 20 | D69: E | G69: E | H69: 20 | I69: 100 | J69: Salaries and Benefits | K69: 20-45-608 | L69: Flex Plan
A70: 20-45-612 | B70: Equipment & Supplies | C70: 20 | D70: E | G70: E | H70: 20 | I70: 100 | J70: Salaries and Benefits | K70: 20-45-609 | L70: Volunteer Incentives
A71: 20-45-614 | B71: Medical Supplies and Equipment | C71: 20 | D71: E | G71: E | H71: 20 | I71: 100 | J71: Salaries and Benefits | K71: 20-45-610 | L71: Volunteer Recruitment
A72: 20-45-615 | B72: Dues & Subscriptions | C72: 20 | D72: E | G72: E | H72: 20 | I72: 200 | J72: General and Administrative | K72: 20-45-612 | L72: Supplies
A73: 20-45-618 | B73: Accounting Services | C73: 20 | D73: E | G73: E | H73: 20 | I73: 200 | J73: General and Administrative | K73: 20-45-614 | L73: Medical Supplies & Equipment
...

Sheet Data (TB)
A1: NFSSD
A2: Month | B2: 45930 | C2: =MONTH(B2) -> 9
E4: =ROUND(SUM(E6:E700),2) -> 0
A5: Account | B5: Description | C5: Debit | D5: Credit | E5: DR/CR
A6: 10-10000 | B6: Cash Combined Fund | C6: 0 | D6: 0 | E6: =SUM(C6:D6) -> 0
A7: 10-10400 | B7: Petty Cash | C7: 0 | D7: 0 | E7: =SUM(C7:D7) -> 0
A8: 10-11500 | B8: Accounts Receivable | C8: 0 | D8: 0 | E8: =SUM(C8:D8) -> 0
A9: 10-14300 | B9: Prepaid Expenses | C9: 0 | D9: 0 | E9: =SUM(C9:D9) -> 0
A10: 10-16000 | B10: Administrative Equipment | C10: 0 | D10: 0 | E10: =SUM(C10:D10) -> 0
A11: 10-16005 | B11: Land | C11: 0 | D11: 0 | E11: =SUM(C11:D11) -> 0
A12: 10-16900 | B12: Accumulated Depreciation DC | C12: 0 | D12: 0 | E12: =SUM(C12:D12) -> 0
A13: 10-17000 | B13: Net Pension Asset | C13: 0 | D13: 0 | E13: =SUM(C13:D13) -> 0
A14: 10-17010 | B14: Deferred Outflows - Pensions | C14: 0 | D14: 0 | E14: =SUM(C14:D14) -> 0
A15: 10-19000 | B15: Suspense | C15: 0 | D15: 0 | E15: =SUM(C15:D15) -> 0
A16: 10-21100 | B16: Accounts Payable | C16: 0 | D16: 0 | E16: =SUM(C16:D16) -> 0
A17: 10-22200 | B17: Salaries & Wages Payable | C17: 0 | D17: 0 | E17: =SUM(C17:D17) -> 0
... A554: 99-29100 | B554: Fund Balance | C554: 0 | D554: 0 | E554: =SUM(C554:D554) -> 0

Sheet Budget Data from FS
I1: =SUM(I3:I388) -> -2.4310793e-09 | L1: =SUM(L3:L388) -> 2495992.4 | M1: =SUM(M3:M388) -> 3703478.3 | N1: =SUM(N3:N388) -> 2552661.9
A2: No | B2: Type | C2: Fund | D2: Grouping Code | E2: Grouping Code Name | F2: Grouping Code and Name | G2: New Account Number | H2: Account Name | I2: 2025 Audit | J2: TB 2026-Sept | K2: 2026 Projection | L2: 2026 Adopted | M2: 2026 Amended | N2: 2027 Proposed
A3: 1 | B3: A | C3: 20 | D3: 10000 | E3: Cash and Cash Equivalents | F3: =D3&" - "&E3 -> 10000 - Cash and Cash Equivalents | G3: 20-10000 | H3: Cash Combined Fund | I3: -743615.45 | J3: -870205.54 | L3: 0 | M3: =_xlfn.XLOOKUP(G3,'Master Budget'!$G$4:$G$360,'Master Budget'!$O$4:$O$360,0) -> 0 | N3: =_xlfn.XLOOKUP(G3,'Master Budget'!$G$4:$G$360,'Master Budget'!$P$4:$P$360,0) -> 0
A4: 2 | B4: A | C4: 20 | D4: 10000 | E4: Cash and Cash Equivalents | F4: =D4&" - "&E4 -> 10000 - Cash and Cash Equivalents | G4: 20-10400 | H4: Petty Cash | I4: 354 | J4: 354 | L4: 0 | M4: =_xlfn.XLOOKUP(G4,'Master Budget'!$G$4:$G$360,'Master Budget'!$O$4:$O$360,0) -> 0 | N4: =_xlfn.XLOOKUP(G4,'Master Budget'!$G$4:$G$360,'Master Budget'!$P$4:$P$360,0) -> 0
A5: 3 | B5: A | C5: 20 | D5: 16200 | E5: Noncurrent restricted cash and investments | F5: =D5&" - "&E5 -> 16200 - Noncurrent restricted cash and investments | G5: 20-10500 | H5: Restricted Cash | I5: 84650 | J5: 0 | L5: 0 | M5: =_xlfn.XLOOKUP(G5,'Master Budget'!$G$4:$G$360,'Master Budget'!$O$4:$O$360,0) -> 0 | N5: =_xlfn.XLOOKUP(G5,'Master Budget'!$G$4:$G$360,'Master Budget'!$P$4:$P$360,0) -> 0
A6: 4 | B6: A | C6: 20 | D6: 10000 | E6: Cash and Cash Equivalents | F6: =D6&" - "&E6 -> 10000 - Cash and Cash Equivalents | G6: 20-10610 | H6: 0348 PTIF Fire Reserve | I6: 1040947.1 | J6: 833452.13 | L6: 0 | M6: =_xlfn.XLOOKUP(G6,'Master Budget'!$G$4:$G$360,'Master Budget'!$O$4:$O$360,0) -> 0 | N6: =_xlfn.XLOOKUP(G6,'Master Budget'!$G$4:$G$360,'Master Budget'!$P$4:$P$360,0) -> 0
A7: 5 | B7: A | C7: 20 | D7: 16200 | E7: Noncurrent restricted cash and investments | F7: =D7&" - "&E7 -> 16200 - Noncurrent restricted cash and investments | G7: 20-10611 | H7: 8554 PTIF Hazmat Reserve | I7: 0 | J7: 0 | L7: 0 | M7: =_xlfn.XLOOKUP(G7,'Master Budget'!$G$4:$G$360,'Master Budget'!$O$4:$O$360,0) -> 0 | N7: =_xlfn.XLOOKUP(G7,'Master Budget'!$G$4:$G$360,'Master Budget'!$P$4:$P$360,0) -> 0
A8: 6 | B8: A | C8: 20 | D8: 10000 | E8: Cash and Cash Equivalents | F8: =D8&" - "&E8 -> 10000 - Cash and Cash Equivalents | G8: 20-10612 | H8: 0348 PTIF Fire Reserve DUE2WL | I8: -317383.14 | J8: 0 | L8: 0 | M8: =_xlfn.XLOOKUP(G8,'Master Budget'!$G$4:$G$360,'Master Budget'!$O$4:$O$360,0) -> 0 | N8: =_xlfn.XLOOKUP(G8,'Master Budget'!$G$4:$G$360,'Master Budget'!$P$4:$P$360,0) -> 0
A9: 7 | B9: A | C9: 20 | D9: 11500 | E9: Accounts Receivable | F9: =D9&" - "&E9 -> 11500 - Accounts Receivable | G9: 20-11500 | H9: Accounts Receivable | I9: 113300.16 | J9: 137220 | L9: 0 | M9: =_xlfn.XLOOKUP(G9,'Master Budget'!$G$4:$G$360,'Master Budget'!$O$4:$O$360,0) -> 0 | N9: =_xlfn.XLOOKUP(G9,'Master Budget'!$G$4:$G$360,'Master Budget'!$P$4:$P$360,0) -> 0
A10: 8 | B10: A | C10: 20 | D10: 11510 | E10: Property Tax Receivable | F10: =D10&" - "&E10 -> 11510 - Property Tax Receivable | G10: 20-11520 | H10: Property Tax Receivable | I10: 37001.8 | J10: 13195.08 | L10: 0 | M10: =_xlfn.XLOOKUP(G10,'Master Budget'!$G$4:$G$360,'Master Budget'!$O$4:$O$360,0) -> 0 | N10: =_xlfn.XLOOKUP(G10,'Master Budget'!$G$4:$G$360,'Master Budget'!$P$4:$P$360,0) -> 0
A11: 9 | B11: A | C11: 20 | D11: 11500 | E11: Accounts Receivable | F11: =D11&" - "&E11 -> 11500 - Accounts Receivable | G11: 20-11570 | H11: Allow for Doubtful Accts | I11: -5500 | J11: -5500 | L11: 0 | M11: =_xlfn.XLOOKUP(G11,'Master Budget'!$G$4:$G$360,'Master Budget'!$O$4:$O$360,0) -> 0 | N11: =_xlfn.XLOOKUP(G11,'Master Budget'!$G$4:$G$360,'Master Budget'!$P$4:$P$360,0) -> 0
A12: 10 | B12: A | C12: 20 | D12: 14300 | E12: Prepaid Expenses | F12: =D12&" - "&E12 -> 14300 - Prepaid Expenses | G12: 20-14300 | H12: Prepaid Expenses | I12: 16704.85 | J12: 0 | L12: 0 | M12: =_xlfn.XLOOKUP(G12,'Master Budget'!$G$4:$G$360,'Master Budget'!$O$4:$O$360,0) -> 0 | N12: =_xlfn.XLOOKUP(G12,'Master Budget'!$G$4:$G$360,'Master Budget'!$P$4:$P$360,0) -> 0
A13: 11 | B13: A | C13: 20 | D13: 16320 | E13: Equipment | F13: =D13&" - "&E13 -> 16320 - Equipment | G13: 20-16000 | H13: Administrative Equipment | I13: 28943.79 | J13: 28943.79 | L13: 0 | M13: =_xlfn.XLOOKUP(G13,'Master Budget'!$G$4:$G$360,'Master Budget'!$O$4:$O$360,0) -> 0 | N13: =_xlfn.XLOOKUP(G13,'Master Budget'!$G$4:$G$360,'Master Budget'!$P$4:$P$360,0) -> 0
A14: 12 | B14: A | C14: 20 | D14: 16350 | E14: Land | F14: =D14&" - "&E14 -> 16350 - Land | G14: 20-16005 | H14: Land | I14: 95583 | J14: 95583 | L14: 0 | M14: =_xlfn.XLOOKUP(G14,'Master Budget'!$G$4:$G$360,'Master Budget'!$O$4:$O$360,0) -> 0 | N14: =_xlfn.XLOOKUP(G14,'Master Budget'!$G$4:$G$360,'Master Budget'!$P$4:$P$360,0) -> 0
... A51: 50 | B51: C | C51: 20 | D51: 29100 | E51: Unrestricted | F51: =D51&" - "&E51 -> 29100 - Unrestricted | G51: 20-29100 | H51: Fund Balance | I51: -1363013.4 | J51: -1172311.2 | L51: 0 | M51: =_xlfn.XLOOKUP(G51,'Master Budget'!$G$4:$G$360,'Master Budget'!$O$4:$O$360,0) -> 0 | N51: =_xlfn.XLOOKUP(G51,'Master Budget'!$G$4:$G$360,'Master Budget'!$P$4:$P$360,0) -> 0
A52: 51 | B52: R | C52: 20 | D52: 30 | E52: Charges for services | F52: =D52&" - "&E52 -> 30 - Charges for services | G52: 20-30-200 | H52: Fire Response | I52: 0 | J52: 0 | K52: =J52/9*12 -> 0 | L52: 0 | M52: =_xlfn.XLOOKUP(G52,'Master Budget'!$G$4:$G$360,'Master Budget'!$O$4:$O$360,0) -> 0 | N52: =_xlfn.XLOOKUP(G52,'Master Budget'!$G$4:$G$360,'Master Budget'!$P$4:$P$360,0) -> 0
A53: 52 | B53: R | C53: 20 | D53: 30 | E53: Charges for services | F53: =D53&" - "&E53 -> 30 - Charges for services | G53: 20-30-400 | H53: Fire Fees | I53: -870179.09 | J53: -729867.04 | K53: =J53/9*12 -> -973156.05 | L53: -898000 | M53: =_xlfn.XLOOKUP(G53,'Master Budget'!$G$4:$G$360,'Master Budget'!$O$4:$O$360,0) -> -898000 | N53: =_xlfn.XLOOKUP(G53,'Master Budget'!$G$4:$G$360,'Master Budget'!$P$4:$P$360,0) -> -933078.32
A54: 53 | B54: R | C54: 20 | D54: 70 | E54: Grant revenue | F54: =D54&" - "&E54 -> 70 - Grant revenue | G54: 20-30-410 | H54: Fire/EMS Grants | I54: -14130 | J54: -3449 | K54: =J54/9*12 -> -4598.6667 | L54: -100000 | M54: =_xlfn.XLOOKUP(G54,'Master Budget'!$G$4:$G$360,'Master Budget'!$O$4:$O$360,0) -> -100000 | N54: =_xlfn.XLOOKUP(G54,'Master Budget'!$G$4:$G$360,'Master Budget'!$P$4:$P$360,0) -> -55250
A55: 54 | B55: R | C55: 20 | D55: 30 | E55: Charges for services | F55: =D55&" - "&E55 -> 30 - Charges for services | G55: 20-30-425 | H55: Ambulance Income | I55: -175806.99 | J55: -64465.95 | K55: =J55/9*12 -> -85954.6 | L55: -140000 | M55: =_xlfn.XLOOKUP(G55,'Master Budget'!$G$4:$G$360,'Master Budget'!$O$4:$O$360,0) -> -140000 | N55: =_xlfn.XLOOKUP(G55,'Master Budget'!$G$4:$G$360,'Master Budget'!$P$4:$P$360,0) -> -156000
A56: 55 | B56: R | C56: 20 | D56: 960 | E56: Interest income | F56: =D56&" - "&E56 -> 960 - Interest income | G56: 20-30-470 | H56: Interest & Finance Charges | I56: -9303.3 | J56: -3247.73 | K56: =J56/9*12 -> -4330.3067 | L56: -14000 | M56: =_xlfn.XLOOKUP(G56,'Master Budget'!$G$4:$G$360,'Master Budget'!$O$4:$O$360,0) -> -14000 | N56: =_xlfn.XLOOKUP(G56,'Master Budget'!$G$4:$G$360,'Master Budget'!$P$4:$P$360,0) -> -9000
A57: 56 | B57: R | C57: 20 | D57: 40 | E57: Miscellaneous income | F57: =D57&" - "&E57 -> 40 - Miscellaneous income | G57: 20-30-475 | H57: Other Income | I57: -775 | J57: 0 | K57: =J57/9*12 -> 0 | L57: -1300 | M57: =_xlfn.XLOOKUP(G57,'Master Budget'!$G$4:$G$360,'Master Budget'!$O$4:$O$360,0) -> -1300 | N57: =_xlfn.XLOOKUP(G57,'Master Budget'!$G$4:$G$360,'Master Budget'!$P$4:$P$360,0) -> -1300
A58: 57 | B58: R | C58: 20 | D58: 950 | E58: Property Taxes | F58: =D58&" - "&E58 -> 950 - Property Taxes | G58: 20-30-500 | H58: Property Tax Income | I58: -102677.18 | J58: -6902.11 | K58: =J58/9*12 -> -9202.8133 | L58: -85000 | M58: =_xlfn.XLOOKUP(G58,'Master Budget'!$G$4:$G$360,'Master Budget'!$O$4:$O$360,0) -> -85000 | N58: =_xlfn.XLOOKUP(G58,'Master Budget'!$G$4:$G$360,'Master Budget'!$P$4:$P$360,0) -> -85000
A59: 58 | B59: R | C59: 20 | D59: 960 | E59: Interest income | F59: =D59&" - "&E59 -> 960 - Interest income | G59: 20-30-505 | H59: Interest on Investments | I59: -35801.94 | J59: -25238.14 | K59: =J59/9*12 -> -33650.853 | L59: -25000 | M59: =_xlfn.XLOOKUP(G59,'Master Budget'!$G$4:$G$360,'Master Budget'!$O$4:$O$360,0) -> -25000 | N59: =_xlfn.XLOOKUP(G59,'Master Budget'!$G$4:$G$360,'Master Budget'!$P$4:$P$360,0) -> -31000
A60: 59 | B60: R | C60: 20 | D60: 60 | E60: Donations | F60: =D60&" - "&E60 -> 60 - Donations | G60: 20-30-510 | H60: Donations and Fund Raising | I60: -19533.35 | J60: -12514.72 | K60: =J60/9*12 -> -16686.293 | L60: -15000 | M60: =_xlfn.XLOOKUP(G60,'Master Budget'!$G$4:$G$360,'Master Budget'!$O$4:$O$360,0) -> -15000 | N60: =_xlfn.XLOOKUP(G60,'Master Budget'!$G$4:$G$360,'Master Budget'!$P$4:$P$360,0) -> -15000
A61: 60 | B61: R | C61: 20 | D61: 30 | E61: Charges for services | F61: =D61&" - "&E61 -> 30 - Charges for services | G61: 20-30-520 | H61: Contract Fees - Utah County | I61: -63232.45 | J61: -88636.21 | K61: =J61 -> -88636.21 | L61: -80000 | M61: =_xlfn.XLOOKUP(G61,'Master Budget'!$G$4:$G$360,'Master Budget'!$O$4:$O$360,0) -> -88000 | N61: =_xlfn.XLOOKUP(G61,'Master Budget'!$G$4:$G$360,'Master Budget'!$P$4:$P$360,0) -> -100000
A62: 62 | B62: E | C62: 20 | D62: 100 | E62: Salaries and Benefits | F62: =D62&" - "&E62 -> 100 - Salaries and Benefits | G62: 20-45-600 | H62: Salaries & Wages | I62: 739589.77 | J62: 581541.52 | K62: =J62/9*12 -> 775388.69 | L62: 821625 | M62: =_xlfn.XLOOKUP(G62,'Master Budget'!$G$4:$G$360,'Master Budget'!$O$4:$O$360,0) -> 821625 | N62: =_xlfn.XLOOKUP(G62,'Master Budget'!$G$4:$G$360,'Master Budget'!$P$4:$P$360,0) -> 752263.29
A63: 63 | B63: E | C63: 20 | D63: 100 | E63: Salaries and Benefits | F63: =D63&" - "&E63 -> 100 - Salaries and Benefits | G63: 20-45-601 | H63: Payroll Taxes | I63: 51047.77 | J63: 44878.22 | K63: =J63/9*12 -> 59837.627 | L63: 62854.313 | M63: =_xlfn.XLOOKUP(G63,'Master Budget'!$G$4:$G$360,'Master Budget'!$O$4:$O$360,0) -> 62854.31 | N63: =_xlfn.XLOOKUP(G63,'Master Budget'!$G$4:$G$360,'Master Budget'!$P$4:$P$360,0) -> 57548.141
A64: 64 | B64: E | C64: 20 | D64: 100 | E64: Salaries and Benefits | F64: =D64&" - "&E64 -> 100 - Salaries and Benefits | G64: 20-45-602 | H64: Retirement | I64: 134808.56 | J64: 116958.44 | K64: =J64/9*12 -> 155944.59 | L64: 125685 | M64: =_xlfn.XLOOKUP(G64,'Master Budget'!$G$4:$G$360,'Master Budget'!$O$4:$O$360,0) -> 157685 | N64: =_xlfn.XLOOKUP(G64,'Master Budget'!$G$4:$G$360,'Master Budget'!$P$4:$P$360,0) -> 98664.842
A65: 65 | B65: E | C65: 20 | D65: 100 | E65: Salaries and Benefits | F65: =D65&" - "&E65 -> 100 - Salaries and Benefits | G65: 20-45-603 | H65: Medical, LTD, Life, AD&D | I65: 104545.86 | J65: 103997.06 | K65: =J65/9*12 -> 138662.75 | L65: 277457.47 | M65: =_xlfn.XLOOKUP(G65,'Master Budget'!$G$4:$G$360,'Master Budget'!$O$4:$O$360,0) -> 277457.48 | N65: =_xlfn.XLOOKUP(G65,'Master Budget'!$G$4:$G$360,'Master Budget'!$P$4:$P$360,0) -> 183789.54
A66: 66 | B66: E | C66: 20 | D66: 100 | E66: Salaries and Benefits | F66: =D66&" - "&E66 -> 100 - Salaries and Benefits | G66: 20-45-604 | H66: Worker's Compensation | I66: 15223.65 | J66: 8700.55 | K66: =J66/9*12 -> 11600.733 | L66: 16432.5 | M66: =_xlfn.XLOOKUP(G66,'Master Budget'!$G$4:$G$360,'Master Budget'!$O$4:$O$360,0) -> 16432.5 | N66: =_xlfn.XLOOKUP(G66,'Master Budget'!$G$4:$G$360,'Master Budget'!$P$4:$P$360,0) -> 15045.266
A67: 67 | B67: E | C67: 20 | D67: 100 | E67: Salaries and Benefits | F67: =D67&" - "&E67 -> 100 - Salaries and Benefits | G67: 20-45-607 | H67: Vacation/Sick/Holiday | I67: 20454.9 | J67: 10668.49 | K67: =J67/9*12 -> 14224.653 | L67: 0 | M67: =_xlfn.XLOOKUP(G67,'Master Budget'!$G$4:$G$360,'Master Budget'!$O$4:$O$360,0) -> 0 | N67: =_xlfn.XLOOKUP(G67,'Master Budget'!$G$4:$G$360,'Master Budget'!$P$4:$P$360,0) -> 0
A68: 68 | B68: E | C68: 20 | D68: 100 | E68: Salaries and Benefits | F68: =D68&" - "&E68 -> 100 - Salaries and Benefits | G68: 20-45-608 | H68: Flex Plan | I68: 50.11 | J68: 71.68 | K68: =J68/9*12 -> 95.573333 | L68: 38.4 | M68: =_xlfn.XLOOKUP(G68,'Master Budget'!$G$4:$G$360,'Master Budget'!$O$4:$O$360,0) -> 100 | N68: =_xlfn.XLOOKUP(G68,'Master Budget'!$G$4:$G$360,'Master Budget'!$P$4:$P$360,0) -> 38.4
A69: 69 | B69: E | C69: 20 | D69: 100 | E69: Salaries and Benefits | F69: =D69&" - "&E69 -> 100 - Salaries and Benefits | G69: 20-45-609 | H69: Volunteer Incentives | I69: 6326.44 | J69: 634.02 | K69: =J69/9*12 -> 845.36 | L69: 5000 | M69: =_xlfn.XLOOKUP(G69,'Master Budget'!$G$4:$G$360,'Master Budget'!$O$4:$O$360,0) -> 2000 | N69: =_xlfn.XLOOKUP(G69,'Master Budget'!$G$4:$G$360,'Master Budget'!$P$4:$P$360,0) -> 5000
A70: 70 | B70: E | C70: 20 | D70: 100 | E70: Salaries and Benefits | F70: =D70&" - "&E70 -> 100 - Salaries and Benefits | G70: 20-45-610 | H70: Volunteer Recruitment | I70: 6782.91 | J70: 1105.69 | K70: =J70/9*12 -> 1474.2533 | L70: 0 | M70: =_xlfn.XLOOKUP(G70,'Master Budget'!$G$4:$G$360,'Master Budget'!$O$4:$O$360,0) -> 3500 | N70: =_xlfn.XLOOKUP(G70,'Master Budget'!$G$4:$G$360,'Master Budget'!$P$4:$P$360,0) -> 3500
A71: 71 | B71: E | C71: 20 | D71: 200 | E71: General and Administrative | F71: =D71&" - "&E71 -> 200 - General and Administrative | G71: 20-45-612 | H71: Supplies | I71: 21264.88 | J71: 12289.65 | K71: =J71/9*12 -> 16386.2 | L71: 20000 | M71: =_xlfn.XLOOKUP(G71,'Master Budget'!$G$4:$G$360,'Master Budget'!$O$4:$O$360,0) -> 20000 | N71: =_xlfn.XLOOKUP(G71,'Master Budget'!$G$4:$G$360,'Master Budget'!$P$4:$P$360,0) -> 20000
A72: 72 | B72: E | C72: 20 | D72: 200 | E72: General and Administrative | F72: =D72&" - "&E72 -> 200 - General and Administrative | G72: 20-45-614 | H72: Medical Supplies & Equipment | I72: 20954.54 | J72: 16269.74 | K72: =J72/9*12 -> 21692.987 | L72: 25000 | M72: =_xlfn.XLOOKUP(G72,'Master Budget'!$G$4:$G$360,'Master Budget'!$O$4:$O$360,0) -> 25000 | N72: =_xlfn.XLOOKUP(G72,'Master Budget'!$G$4:$G$360,'Master Budget'!$P$4:$P$360,0) -> 25000
A73: 73 | B73: E | C73: 20 | D73: 200 | E73: General and Administrative | F73: =D73&" - "&E73 -> 200 - General and Administrative | G73: 20-45-615 | H73: Dues and Subscriptions | I73: 31566.68 | J73: 37018.88 | K73: =J73/9*12 -> 49358.507 | L73: 20000 | M73: =_xlfn.XLOOKUP(G73,'Master Budget'!$G$4:$G$360,'Master Budget'!$O$4:$O$360,0) -> 45000 | N73: =_xlfn.XLOOKUP(G73,'Master Budget'!$G$4:$G$360,'Master Budget'!$P$4:$P$360,0) -> 35000
... A81: 81 | B81: E | C81: 20 | D81: 200 | E81: General and Administrative | F81: =D81&" - "&E81 -> 200 - General and Administrative | G81: 20-45-624 | H81: UDOT Station 2 Electricity | I81: 545.86 | J81: 495.74 | K81: =J81/9*12 -> 660.98667 | L81: 500 | M81: =_xlfn.XLOOKUP(G81,'Master Budget'!$G$4:$G$360,'Master Budget'!$O$4:$O$360,0) -> 758.24 | N81: =_xlfn.XLOOKUP(G81,'Master Budget'!$G$4:$G$360,'Master Budget'!$P$4:$P$360,0) -> 800
A82: 82 | B82: E | C82: 20 | D82: 200 | E82: General and Administrative | F82: =D82&" - "&E82 -> 200 - General and Administrative | G82: 20-45-625 | H82: Special Studies | I82: 0 | J82: 10000 | K82: =J82/9*12 -> 13333.333 | M82: =_xlfn.XLOOKUP(G82,'Master Budget'!$G$4:$G$360,'Master Budget'!$O$4:$O$360,0) -> 10000 | N82: =_xlfn.XLOOKUP(G82,'Master Budget'!$G$4:$G$360,'Master Budget'!$P$4:$P$360,0) -> 0
A83: 83 | B83: E | C83: 20 | D83: 200 | E83: General and Administrative | F83: =D83&" - "&E83 -> 200 - General and Administrative | G83: 20-45-629 | H83: Utilities-Communications | I83: 7705.41 | J83: 6219.05 | K83: =J83/9*12 -> 8292.0667 | L83: 8000 | M83: =_xlfn.XLOOKUP(G83,'Master Budget'!$G$4:$G$360,'Master Budget'!$O$4:$O$360,0) -> 10798.38 | N83: =_xlfn.XLOOKUP(G83,'Master Budget'!$G$4:$G$360,'Master Budget'!$P$4:$P$360,0) -> 11000
...

Sheet Pivot Summary
A1: Type | B1: (Multiple Items) | C1: 2026 Amended
I2: Type | J2: (Multiple Items)
A3: Sum of 2026 Amended | B3: Column Labels
A4: Row Labels | B4: 20 | C4: 22 | D4: 51 | E4: 52 | F4: 53 | G4: Grand Total | I4: Row Labels | J4: Sum of 2025 Audit | K4: Sum of 2026 Projection | L4: Sum of 2026 Adopted | M4: Sum of 2026 Amended | N4: Sum of 2027 Proposed
A5: 30 - Charges for services | B5: -1126000 | C5: -2200000 | D5: -752720 | E5: -685480 | F5: -28500 | G5: -4792700 | I5: 30 - Charges for services | J5: -4347358.4 | K5: -5326314.1 | L5: -3484700 | M5: -4792700 | N5: -4341802.3
A6: 40 - Miscellaneous income | B6: -1300 | G6: -1300 | I6: 40 - Miscellaneous income | J6: -775 | K6: 0 | L6: -1300 | M6: -1300 | N6: -1300
A7: 60 - Donations | B7: -15000 | G7: -15000 | I7: 60 - Donations | J7: -19533.35 | K7: -16686.293 | L7: -15000 | M7: -15000 | N7: -15000
A8: 70 - Grant revenue | B8: -100000 | C8: -10000 | D8: 0 | E8: -2619841.6 | G8: -2729841.6 | I8: 70 - Grant revenue | J8: -10009291 | K8: -51809.733 | L8: -3850000 | M8: -2729841.6 | N8: -1515250
A9: 100 - Salaries and Benefits | B9: 1341654.3 | C9: 1017018 | D9: 376046.52 | E9: 376008.12 | F9: 11680.549 | G9: 3122407.5 | I9: 100 - Salaries and Benefits | J9: 2451154.4 | K9: 3017469.8 | L9: 2863446.5 | M9: 3122407.5 | N9: 3119493.8
A10: 200 - General and Administrative | B10: 319871.51 | C10: 212000 | D10: 315300 | E10: 322600 | F10: 18240 | G10: 1188011.5 | I10: 200 - General and Administrative | J10: 960310.89 | K10: 869623.19 | L10: 1044960.9 | M10: 1188011.5 | N10: 1170860.5
A11: 500 - Repairs and Maintenance | B11: 51070 | C11: 57000 | D11: 120350 | E11: 53350 | F11: 4000 | G11: 285770 | I11: 500 - Repairs and Maintenance | J11: 248739.91 | K11: 231841 | L11: 254200 | M11: 285770 | N11: 264350
A12: 600 - Bad Debt | B12: 0 | D12: 0 | E12: 0 | F12: 0 | G12: 0 | I12: 600 - Bad Debt | J12: 0 | K12: 0 | L12: 0 | M12: 0 | N12: 0
A13: 620 - Interest Expense | B13: 3918.49 | D13: 22158.4 | E13: 63620 | G13: 89696.89 | I13: 620 - Interest Expense | J13: 41358.94 | K13: 1178.08 | L13: 164178 | M13: 89696.89 | N13: 85896.6
A14: 700 - Depreciation and Amortization | B14: 110000 | C14: 0 | D14: 87202 | E14: 111558 | F14: 2122 | G14: 310882 | I14: 700 - Depreciation and Amortization | J14: 450618.23 | K14: 250343.47 | L14: 310882 | M14: 310882 | N14: 310882
A15: 710 - capital Outlay | B15: 0 | C15: 515000 | D15: 930000 | E15: 4580000 | F15: 0 | G15: 6025000 | I15: 710 - capital Outlay | J15: 0 | K15: 3094031.3 | L15: 5255000 | M15: 6025000 | N15: 3249000
A16: 720 - Gain/Loss on disposal | B16: 0 | C16: 0 | D16: 0 | E16: 0 | G16: 0 | I16: 720 - Gain/Loss on disposal | J16: 39296.42 | K16: 0 | L16: 0 | M16: 0 | N16: 0
A17: 950 - Property Taxes | B17: -85000 | D17: -80000 | G17: -165000 | I17: 950 - Property Taxes | J17: -205354.36 | K17: -18405.587 | L17: -165000 | M17: -165000 | N17: -165000
A18: 960 - Interest income | B18: -39000 | C18: -14000 | D18: -100000 | E18: -50000 | F18: 0 | G18: -203000 | I18: 960 - Interest income | J18: -436434.66 | K18: -195165.97 | L18: -189000 | M18: -203000 | N18: -202000
A19: 970 - Debt Principle Payments | B19: 20552 | D19: 138000 | E19: 430000 | G19: 588552 | I19: 970 - Debt Principle Payments | J19: 0 | K19: 0 | L19: 308325 | M19: 588552 | N19: 592531.4
A20: Grand Total | B20: 480766.29 | C20: -422982 | D20: 1056336.9 | E20: 2581814.5 | F20: 7542.5493 | G20: 3703478.3 | I20: Grand Total | J20: -10827268 | K20: 1856105.2 | L20: 2495992.4 | M20: 3703478.3 | N20: 2552661.9
M21: =GETPIVOTDATA("Sum of 2026 Amended",$I$4)-GETPIVOTDATA("2026 Amended",$A$3) -> 0 | N21: =GETPIVOTDATA("Sum of 2027 Proposed",$I$4)-GETPIVOTDATA("2027 Proposed",$A$25) -> 0
A23: Type | B23: (Multiple Items) | C23: 2027 Proposed
A25: Sum of 2027 Proposed | B25: Column Labels
A26: Row Labels | B26: 20 | C26: 22 | D26: 51 | E26: 52 | F26: 53 | G26: Grand Total
A27: 30 - Charges for services | B27: -1189078.3 | C27: -1686024 | D27: -752720 | E27: -685480 | F27: -28500 | G27: -4341802.3
A28: 40 - Miscellaneous income | B28: -1300 | G28: -1300
A29: 60 - Donations | B29: -15000 | G29: -15000
A30: 70 - Grant revenue | B30: -55250 | C30: -60000 | D30: -1400000 | E30: 0 | G30: -1515250
A31: 100 - Salaries and Benefits | B31: 1115849.5 | C31: 1239165.6 | D31: 376088.8 | E31: 376050.4 | F31: 12339.491 | G31: 3119493.8
A32: 200 - General and Administrative | B32: 287720.49 | C32: 214000 | D32: 328300 | E32: 322600 | F32: 18240 | G32: 1170860.5
A33: 500 - Repairs and Maintenance | B33: 49000 | C33: 52000 | D33: 116000 | E33: 43350 | F33: 4000 | G33: 264350
A34: 600 - Bad Debt | B34: 0 | D34: 0 | E34: 0 | F34: 0 | G34: 0
A35: 620 - Interest Expense | B35: 2939.1 | D35: 19337.5 | E35: 63620 | G35: 85896.6
A36: 700 - Depreciation and Amortization | B36: 110000 | C36: 0 | D36: 87202 | E36: 111558 | F36: 2122 | G36: 310882
A37: 710 - capital Outlay | B37: 619000 | C37: 0 | D37: 1590000 | E37: 1040000 | F37: 0 | G37: 3249000
A38: 720 - Gain/Loss on disposal | B38: 0 | C38: 0 | D38: 0 | E38: 0 | G38: 0
A39: 950 - Property Taxes | B39: -85000 | D39: -80000 | G39: -165000
A40: 960 - Interest income | B40: -40000 | C40: -12000 | D40: -100000 | E40: -50000 | F40: 0 | G40: -202000
A41: 970 - Debt Principle Payments | B41: 21531.4 | D41: 141000 | E41: 430000 | G41: 592531.4
A42: Grand Total | B42: 820412.15 | C42: -252858.42 | D42: 325208.3 | E42: 1651698.4 | F42: 8201.4908 | G42: 2552661.9

Sheet Master Budget
A2: Master Budget | I2: =SUM(I4:I360) -> 712533.26 | J2: =SUM(J4:J360) -> 1022490 | K2: =SUM(K4:K360) -> 449021.13 | L2: =SUM(L4:L360) -> 18133160 | M2: =SUM(M4:M360) -> -1069270.7 | N2: =SUM(N4:N360) -> 3320992.4 | O2: =SUM(O4:O360) -> 3703478.3 | P2: =SUM(P4:P360) -> 2552661.9 | R2: =Q2/2 -> 0
A3: No | B3: Type | C3: Fund | D3: Grouping Code | E3: Grouping Code Name | F3: Grouping No and Name | G3: New Account Number | H3: Account Name | I3: 2024 Adopted | J3: 2024 Amended | K3: 2025 Annualized | L3: 2025 Adopted | M3: 2025 Amended | N3: 2026 Proposed | O3: 2026 Amended | P3: 2027 Proposed | R3: Filter
A4: 1 | B4: A | C4: =LEFT(G4,2) -> 20 | D4: 10000 | E4: Cash and Cash Equivalents | F4: =D4&" "&E4 -> 10000 Cash and Cash Equivalents | G4: 20-10000 | H4: Cash Combined Fund | I4: 0 | J4: =SUMIFS('Budget Worksheet'!$J$5:$J$234,'Budget Worksheet'!$B$5:$B$234,'Master Budget'!G4) -> 0 | L4: =SUMIFS('Budget Worksheet'!$L$5:$L$234,'Budget Worksheet'!$B$5:$B$234,'Master Budget'!G4) -> 0 | M4: =_xlfn.XLOOKUP(G4,'Budget Worksheet'!$B$5:$B$234,'Budget Worksheet'!$N$5:$N$234,0) -> 0 | N4: =_xlfn.XLOOKUP(G4,'Budget Worksheet'!$B$5:$B$234,'Budget Worksheet'!$U$5:$U$234,0) -> 0 | O4: =_xlfn.XLOOKUP(G4,'Budget Worksheet'!$B$5:$B$234,'Budget Worksheet'!$S$5:$S$234,0) -> 0 | P4: =_xlfn.XLOOKUP(G4,'Budget Worksheet'!$B$5:$B$234,'Budget Worksheet'!$U$5:$U$234,0) -> 0 | Q4: =MATCH(G4,'Budget Worksheet'!$B$5:$B$234,0) -> #N/A | R4: =SUM(I4:N4) -> 0
A5: 2 | B5: A | C5: =LEFT(G5,2) -> 20 | D5: 10000 | E5: Cash and Cash Equivalents | F5: =D5&" "&E5 -> 10000 Cash and Cash Equivalents | G5: 20-10400 | H5: Petty Cash | I5: 0 | J5: =SUMIFS('Budget Worksheet'!$J$5:$J$234,'Budget Worksheet'!$B$5:$B$234,'Master Budget'!G5) -> 0 | L5: =SUMIFS('Budget Worksheet'!$L$5:$L$234,'Budget Worksheet'!$B$5:$B$234,'Master Budget'!G5) -> 0 | M5: =_xlfn.XLOOKUP(G5,'Budget Worksheet'!$B$5:$B$234,'Budget Worksheet'!$N$5:$N$234,0) -> 0 | N5: =_xlfn.XLOOKUP(G5,'Budget Worksheet'!$B$5:$B$234,'Budget Worksheet'!$U$5:$U$234,0) -> 0 | O5: =_xlfn.XLOOKUP(G5,'Budget Worksheet'!$B$5:$B$234,'Budget Worksheet'!$S$5:$S$234,0) -> 0 | P5: =_xlfn.XLOOKUP(H5,'Budget Worksheet'!$B$5:$B$234,'Budget Worksheet'!$U$5:$U$234,0) -> 0 | Q5: =MATCH(G5,'Budget Worksheet'!$B$5:$B$234,0) -> #N/A | R5: =SUM(I5:N5) -> 0
A6: 3 | B6: A | C6: =LEFT(G6,2) -> 20 | D6: 10600 | E6: Restricted cash and investments | F6: =D6&" "&E6 -> 10600 Restricted cash and investments | G6: 20-10500 | H6: Restricted Cash | I6: 0 | J6: =SUMIFS('Budget Worksheet'!$J$5:$J$234,'Budget Worksheet'!$B$5:$B$234,'Master Budget'!G6) -> 0 | L6: =SUMIFS('Budget Worksheet'!$L$5:$L$234,'Budget Worksheet'!$B$5:$B$234,'Master Budget'!G6) -> 0 | M6: =_xlfn.XLOOKUP(G6,'Budget Worksheet'!$B$5:$B$234,'Budget Worksheet'!$N$5:$N$234,0) -> 0 | N6: =_xlfn.XLOOKUP(G6,'Budget Worksheet'!$B$5:$B$234,'Budget Worksheet'!$U$5:$U$234,0) -> 0 | O6: =_xlfn.XLOOKUP(G6,'Budget Worksheet'!$B$5:$B$234,'Budget Worksheet'!$S$5:$S$234,0) -> 0 | P6: =_xlfn.XLOOKUP(H6,'Budget Worksheet'!$B$5:$B$234,'Budget Worksheet'!$U$5:$U$234,0) -> 0 | Q6: =MATCH(G6,'Budget Worksheet'!$B$5:$B$234,0) -> #N/A | R6: =SUM(I6:N6) -> 0
A7: 4 | B7: A | C7: =LEFT(G7,2) -> 20 | D7: 10000 | E7: Cash and Cash Equivalents | F7: =D7&" "&E7 -> 10000 Cash and Cash Equivalents | G7: 20-10610 | H7: 0348 PTIF Fire Reserve | I7: 0 | J7: =SUMIFS('Budget Worksheet'!$J$5:$J$234,'Budget Worksheet'!$B$5:$B$234,'Master Budget'!G7) -> 0 | L7: =SUMIFS('Budget Worksheet'!$L$5:$L$234,'Budget Worksheet'!$B$5:$B$234,'Master Budget'!G7) -> 0 | M7: =_xlfn.XLOOKUP(G7,'Budget Worksheet'!$B$5:$B$234,'Budget Worksheet'!$N$5:$N$234,0) -> 0 | N7: =_xlfn.XLOOKUP(G7,'Budget Worksheet'!$B$5:$B$234,'Budget Worksheet'!$U$5:$U$234,0) -> 0 | O7: =_xlfn.XLOOKUP(G7,'Budget Worksheet'!$B$5:$B$234,'Budget Worksheet'!$S$5:$S$234,0) -> 0 | P7: =_xlfn.XLOOKUP(H7,'Budget Worksheet'!$B$5:$B$234,'Budget Worksheet'!$U$5:$U$234,0) -> 0 | Q7: =MATCH(G7,'Budget Worksheet'!$B$5:$B$234,0) -> #N/A | R7: =SUM(I7:N7) -> 0
A8: 5 | B8: A | C8: =LEFT(G8,2) -> 20 | D8: 10600 | E8: Restricted cash and investments | F8: =D8&" "&E8 -> 10600 Restricted cash and investments | G8: 20-10611 | H8: 8554 PTIF Hazmat Reserve | I8: 0 | J8: =SUMIFS('Budget Worksheet'!$J$5:$J$234,'Budget Worksheet'!$B$5:$B$234,'Master Budget'!G8) -> 0 | L8: =SUMIFS('Budget Worksheet'!$L$5:$L$234,'Budget Worksheet'!$B$5:$B$234,'Master Budget'!G8) -> 0 | M8: =_xlfn.XLOOKUP(G8,'Budget Worksheet'!$B$5:$B$234,'Budget Worksheet'!$N$5:$N$234,0) -> 0 | N8: =_xlfn.XLOOKUP(G8,'Budget Worksheet'!$B$5:$B$234,'Budget Worksheet'!$U$5:$U$234,0) -> 0 | O8: =_xlfn.XLOOKUP(G8,'Budget Worksheet'!$B$5:$B$234,'Budget Worksheet'!$S$5:$S$234,0) -> 0 | P8: =_xlfn.XLOOKUP(H8,'Budget Worksheet'!$B$5:$B$234,'Budget Worksheet'!$U$5:$U$234,0) -> 0 | Q8: =MATCH(G8,'Budget Worksheet'!$B$5:$B$234,0) -> #N/A | R8: =SUM(I8:N8) -> 0
A9: 6 | B9: A | C9: =LEFT(G9,2) -> 20 | D9: 11500 | E9: Accounts Receivable | F9: =D9&" "&E9 -> 11500 Accounts Receivable | G9: 20-11500 | H9: Accounts Receivable | I9: 0 | J9: =SUMIFS('Budget Worksheet'!$J$5:$J$234,'Budget Worksheet'!$B$5:$B$234,'Master Budget'!G9) -> 0 | L9: =SUMIFS('Budget Worksheet'!$L$5:$L$234,'Budget Worksheet'!$B$5:$B$234,'Master Budget'!G9) -> 0 | M9: =_xlfn.XLOOKUP(G9,'Budget Worksheet'!$B$5:$B$234,'Budget Worksheet'!$N$5:$N$234,0) -> 0 | N9: =_xlfn.XLOOKUP(G9,'Budget Worksheet'!$B$5:$B$234,'Budget Worksheet'!$U$5:$U$234,0) -> 0 | O9: =_xlfn.XLOOKUP(G9,'Budget Worksheet'!$B$5:$B$234,'Budget Worksheet'!$S$5:$S$234,0) -> 0 | P9: =_xlfn.XLOOKUP(H9,'Budget Worksheet'!$B$5:$B$234,'Budget Worksheet'!$U$5:$U$234,0) -> 0 | Q9: =MATCH(G9,'Budget Worksheet'!$B$5:$B$234,0) -> #N/A | R9: =SUM(I9:N9) -> 0
A10: 7 | B10: A | C10: =LEFT(G10,2) -> 20 | D10: 11510 | E10: Property Tax Receivable | F10: =D10&" "&E10 -> 11510 Property Tax Receivable | G10: 20-11520 | H10: Property Tax Receivable | I10: 0 | J10: =SUMIFS('Budget Worksheet'!$J$5:$J$234,'Budget Worksheet'!$B$5:$B$234,'Master Budget'!G10) -> 0 | L10: =SUMIFS('Budget Worksheet'!$L$5:$L$234,'Budget Worksheet'!$B$5:$B$234,'Master Budget'!G10) -> 0 | M10: =_xlfn.XLOOKUP(G10,'Budget Worksheet'!$B$5:$B$234,'Budget Worksheet'!$N$5:$N$234,0) -> 0 | N10: =_xlfn.XLOOKUP(G10,'Budget Worksheet'!$B$5:$B$234,'Budget Worksheet'!$U$5:$U$234,0) -> 0 | O10: =_xlfn.XLOOKUP(G10,'Budget Worksheet'!$B$5:$B$234,'Budget Worksheet'!$S$5:$S$234,0) -> 0 | P10: =_xlfn.XLOOKUP(H10,'Budget Worksheet'!$B$5:$B$234,'Budget Worksheet'!$U$5:$U$234,0) -> 0 | Q10: =MATCH(G10,'Budget Worksheet'!$B$5:$B$234,0) -> #N/A | R10: =SUM(I10:N10) -> 0
A11: 8 | B11: A | C11: =LEFT(G11,2) -> 20 | D11: 11500 | E11: Accounts Receivable | F11: =D11&" "&E11 -> 11500 Accounts Receivable | G11: 20-11570 | H11: Allow for Doubtful Accts | I11: 0 | J11: =SUMIFS('Budget Worksheet'!$J$5:$J$234,'Budget Worksheet'!$B$5:$B$234,'Master Budget'!G11) -> 0 | L11: =SUMIFS('Budget Worksheet'!$L$5:$L$234,'Budget Worksheet'!$B$5:$B$234,'Master Budget'!G11) -> 0 | M11: =_xlfn.XLOOKUP(G11,'Budget Worksheet'!$B$5:$B$234,'Budget Worksheet'!$N$5:$N$234,0) -> 0 | N11: =_xlfn.XLOOKUP(G11,'Budget Worksheet'!$B$5:$B$234,'Budget Worksheet'!$U$5:$U$234,0) -> 0 | O11: =_xlfn.XLOOKUP(G11,'Budget Worksheet'!$B$5:$B$234,'Budget Worksheet'!$S$5:$S$234,0) -> 0 | P11: =_xlfn.XLOOKUP(H11,'Budget Worksheet'!$B$5:$B$234,'Budget Worksheet'!$U$5:$U$234,0) -> 0 | Q11: =MATCH(G11,'Budget Worksheet'!$B$5:$B$234,0) -> #N/A | R11: =SUM(I11:N11) -> 0
A12: 9 | B12: A | C12: =LEFT(G12,2) -> 20 | D12: 14300 | E12: Prepaid Expenses | F12: =D12&" "&E12 -> 14300 Prepaid Expenses | G12: 20-14300 | H12: Prepaid Expenses | I12: 0 | J12: =SUMIFS('Budget Worksheet'!$J$5:$J$234,'Budget Worksheet'!$B$5:$B$234,'Master Budget'!G12) -> 0 | L12: =SUMIFS('Budget Worksheet'!$L$5:$L$234,'Budget Worksheet'!$B$5:$B$234,'Master Budget'!G12) -> 0 | M12: =_xlfn.XLOOKUP(G12,'Budget Worksheet'!$B$5:$B$234,'Budget Worksheet'!$N$5:$N$234,0) -> 0 | N12: =_xlfn.XLOOKUP(G12,'Budget Worksheet'!$B$5:$B$234,'Budget Worksheet'!$U$5:$U$234,0) -> 0 | O12: =_xlfn.XLOOKUP(G12,'Budget Worksheet'!$B$5:$B$234,'Budget Worksheet'!$S$5:$S$234,0) -> 0 | P12: =_xlfn.XLOOKUP(H12,'Budget Worksheet'!$B$5:$B$234,'Budget Worksheet'!$U$5:$U$234,0) -> 0 | Q12: =MATCH(G12,'Budget Worksheet'!$B$5:$B$234,0) -> #N/A | R12: =SUM(I12:N12) -> 0
A13: 10 | B13: A | C13: =LEFT(G13,2) -> 20 | D13: 16320 | E13: Equipment | F13: =D13&" "&E13 -> 16320 Equipment | G13: 20-16000 | H13: Administrative Equipment | I13: 0 | J13: =SUMIFS('Budget Worksheet'!$J$5:$J$234,'Budget Worksheet'!$B$5:$B$234,'Master Budget'!G13) -> 0 | L13: =SUMIFS('Budget Worksheet'!$L$5:$L$234,'Budget Worksheet'!$B$5:$B$234,'Master Budget'!G13) -> 0 | M13: =_xlfn.XLOOKUP(G13,'Budget Worksheet'!$B$5:$B$234,'Budget Worksheet'!$N$5:$N$234,0) -> 0 | N13: =_xlfn.XLOOKUP(G13,'Budget Worksheet'!$B$5:$B$234,'Budget Worksheet'!$U$5:$U$234,0) -> 0 | O13: =_xlfn.XLOOKUP(G13,'Budget Worksheet'!$B$5:$B$234,'Budget Worksheet'!$S$5:$S$234,0) -> 0 | P13: =_xlfn.XLOOKUP(H13,'Budget Worksheet'!$B$5:$B$234,'Budget Worksheet'!$U$5:$U$234,0) -> 0 | Q13: =MATCH(G13,'Budget Worksheet'!$B$5:$B$234,0) -> #N/A | R13: =SUM(I13:N13) -> 0
